BEGIN:VCALENDAR
VERSION:2.0
PRODID:-//fablabtulsa.org//NONSGML kigkonsult.se iCalcreator 2.30.10//
CALSCALE:GREGORIAN
METHOD:PUBLISH
UID:abef0928-f7ed-47d8-902c-9beb0a9b964f
X-WR-CALDESC:
X-WR-RELCALID:ba1516cf9047f31c0d09808ba3478cb5
X-WR-TIMEZONE:America/Chicago
BEGIN:VTIMEZONE
TZID:America/Chicago
BEGIN:STANDARD
TZNAME:CST
DTSTART:20241103T020000
TZOFFSETFROM:-0500
TZOFFSETTO:-0600
RDATE:20251102T020000
END:STANDARD
BEGIN:DAYLIGHT
TZNAME:CDT
DTSTART:20240310T020000
TZOFFSETFROM:-0600
TZOFFSETTO:-0500
RDATE:20250309T020000
RDATE:20260308T020000
END:DAYLIGHT
END:VTIMEZONE
BEGIN:VEVENT
UID:3abb7ea0-af6d-4463-942c-fac674cf8c01
DTSTAMP:20260423T014618Z
DESCRIPTION:
DTSTART;TZID=America/Chicago:20241224T050000
DTEND;TZID=America/Chicago:20250101T050001
LOCATION:501 S Lewis Ave\, Tulsa\, OK 74104 US
SUMMARY:Winter Holiday Break - Lab Closed
END:VEVENT
END:VCALENDAR
