BEGIN:VCALENDAR
VERSION:2.0
PRODID:-//fablabtulsa.org//NONSGML kigkonsult.se iCalcreator 2.30.10//
CALSCALE:GREGORIAN
METHOD:PUBLISH
UID:b1d4451b-1e40-42ab-b089-0133d7289749
X-WR-CALDESC:Member Class
X-WR-RELCALID:d0e945a75187c395a14da7ffcc10d9a8
X-WR-TIMEZONE:America/Chicago
BEGIN:VTIMEZONE
TZID:America/Chicago
BEGIN:STANDARD
TZNAME:CST
DTSTART:20241103T020000
TZOFFSETFROM:-0500
TZOFFSETTO:-0600
RDATE:20251102T020000
END:STANDARD
BEGIN:DAYLIGHT
TZNAME:CDT
DTSTART:20240310T020000
TZOFFSETFROM:-0600
TZOFFSETTO:-0500
RDATE:20250309T020000
RDATE:20260308T020000
END:DAYLIGHT
END:VTIMEZONE
BEGIN:VEVENT
UID:b7f6ae77-4b09-40e4-8ade-993d38e4eae5
DTSTAMP:20260423T014301Z
DESCRIPTION:Member Class
DTSTART;TZID=America/Chicago:20241214T130000
DTEND;TZID=America/Chicago:20241214T160000
LOCATION:501 S Lewis Avenue \, Tulsa\, OK 74105 US
SUMMARY:Class - 2.5D Milling - Non-Metals
END:VEVENT
END:VCALENDAR
