BEGIN:VCALENDAR
VERSION:2.0
PRODID:-//fablabtulsa.org//NONSGML kigkonsult.se iCalcreator 2.30.10//
CALSCALE:GREGORIAN
METHOD:PUBLISH
UID:298aa15b-f407-42eb-a049-c7cdab0b5ca1
X-WR-CALDESC:
X-WR-RELCALID:19f194ee35aa56d68f29977b0f9e93bc
X-WR-TIMEZONE:America/Chicago
BEGIN:VTIMEZONE
TZID:America/Chicago
BEGIN:STANDARD
TZNAME:CST
DTSTART:20241103T020000
TZOFFSETFROM:-0500
TZOFFSETTO:-0600
RDATE:20251102T020000
END:STANDARD
BEGIN:DAYLIGHT
TZNAME:CDT
DTSTART:20240310T020000
TZOFFSETFROM:-0600
TZOFFSETTO:-0500
RDATE:20250309T020000
RDATE:20260308T020000
END:DAYLIGHT
END:VTIMEZONE
BEGIN:VEVENT
UID:7c205311-08f5-440e-8b0c-c5edda787909
DTSTAMP:20260423T031805Z
DESCRIPTION:
DTSTART;TZID=America/Chicago:20241128T050000
DTEND;TZID=America/Chicago:20241130T050001
LOCATION:501 S Lewis Ave\, Tulsa\, OK 74104 US
SUMMARY:Thanksgiving Holiday - Lab Closed
END:VEVENT
END:VCALENDAR
