BEGIN:VCALENDAR
VERSION:2.0
PRODID:-//fablabtulsa.org//NONSGML kigkonsult.se iCalcreator 2.30.10//
CALSCALE:GREGORIAN
METHOD:PUBLISH
UID:3e44c972-2e3f-47c4-9711-c4e5da9c4845
X-WR-CALDESC:
X-WR-RELCALID:dd8ce03cb95757df6469d018ff1f1cb2
X-WR-TIMEZONE:America/Chicago
BEGIN:VTIMEZONE
TZID:America/Chicago
BEGIN:STANDARD
TZNAME:CST
DTSTART:20241103T020000
TZOFFSETFROM:-0500
TZOFFSETTO:-0600
RDATE:20251102T020000
END:STANDARD
BEGIN:DAYLIGHT
TZNAME:CDT
DTSTART:20240310T020000
TZOFFSETFROM:-0600
TZOFFSETTO:-0500
RDATE:20250309T020000
RDATE:20260308T020000
END:DAYLIGHT
END:VTIMEZONE
BEGIN:VEVENT
UID:8e9312bb-3517-4154-8494-2c76105a3a10
DTSTAMP:20260423T030739Z
DESCRIPTION:
DTSTART;TZID=America/Chicago:20241127T160000
DTEND;TZID=America/Chicago:20241127T190000
LOCATION:501 S Lewis Ave\, Tulsa\, OK 74104 US
SUMMARY:Closed to Cook Turkey - Happy Thanksgiving!
END:VEVENT
END:VCALENDAR
