BEGIN:VCALENDAR
VERSION:2.0
PRODID:-//fablabtulsa.org//NONSGML kigkonsult.se iCalcreator 2.30.10//
CALSCALE:GREGORIAN
METHOD:PUBLISH
UID:c50b2aa7-6390-4cc7-bf67-95a18b9ebdca
X-WR-CALDESC:
X-WR-RELCALID:ff82efcf624b9f12a44c2a1e6a8977b0
X-WR-TIMEZONE:America/Chicago
BEGIN:VTIMEZONE
TZID:America/Chicago
BEGIN:STANDARD
TZNAME:CST
DTSTART:20241103T020000
TZOFFSETFROM:-0500
TZOFFSETTO:-0600
RDATE:20251102T020000
END:STANDARD
BEGIN:DAYLIGHT
TZNAME:CDT
DTSTART:20240310T020000
TZOFFSETFROM:-0600
TZOFFSETTO:-0500
RDATE:20250309T020000
RDATE:20260308T020000
END:DAYLIGHT
END:VTIMEZONE
BEGIN:VEVENT
UID:79071e5b-0e35-4069-baf4-c974c020ebfa
DTSTAMP:20260423T031641Z
DESCRIPTION:
DTSTART;TZID=America/Chicago:20241126T140000
DTEND;TZID=America/Chicago:20241126T170000
LOCATION:501 S Lewis Ave\, Tulsa\, OK 74104 US
SUMMARY:TU Student Thanksgiving Event
END:VEVENT
END:VCALENDAR
