BEGIN:VCALENDAR
VERSION:2.0
PRODID:-//fablabtulsa.org//NONSGML kigkonsult.se iCalcreator 2.30.10//
CALSCALE:GREGORIAN
METHOD:PUBLISH
UID:fdcb74b2-fa8c-4ec9-91ee-0718149d1d64
X-WR-CALDESC:
X-WR-RELCALID:2d0a5f7f38289921d2f304720a78b485
X-WR-TIMEZONE:America/Chicago
BEGIN:VTIMEZONE
TZID:America/Chicago
BEGIN:STANDARD
TZNAME:CST
DTSTART:20231105T020000
TZOFFSETFROM:-0500
TZOFFSETTO:-0600
RDATE:20241103T020000
RDATE:20251102T020000
END:STANDARD
BEGIN:DAYLIGHT
TZNAME:CDT
DTSTART:20240310T020000
TZOFFSETFROM:-0600
TZOFFSETTO:-0500
RDATE:20250309T020000
RDATE:20260308T020000
END:DAYLIGHT
END:VTIMEZONE
BEGIN:VEVENT
UID:f62e4875-280f-4f5a-abca-36195207dabe
DTSTAMP:20260423T044302Z
DESCRIPTION:
DTSTART;TZID=America/Chicago:20241029T140000
DTEND;TZID=America/Chicago:20241029T170000
LOCATION:501 S Lewis Ave\, Tulsa\, OK 74104 US
SUMMARY:TUDA - TU Students in Lab
END:VEVENT
END:VCALENDAR
