BEGIN:VCALENDAR
VERSION:2.0
PRODID:-//fablabtulsa.org//NONSGML kigkonsult.se iCalcreator 2.30.10//
CALSCALE:GREGORIAN
METHOD:PUBLISH
UID:7c5362e8-8f99-445d-8593-579970419f48
X-WR-CALDESC:Come see us at Fab Lab Tulsa to make a SPOOKY\, GLOWING custom
 ized bag for your Halloween Treats!
X-WR-RELCALID:18dfb868ff23bb5cfdaefd46fe165081
X-WR-TIMEZONE:America/Chicago
BEGIN:VTIMEZONE
TZID:America/Chicago
BEGIN:STANDARD
TZNAME:CST
DTSTART:20231105T020000
TZOFFSETFROM:-0500
TZOFFSETTO:-0600
RDATE:20241103T020000
RDATE:20251102T020000
END:STANDARD
BEGIN:DAYLIGHT
TZNAME:CDT
DTSTART:20240310T020000
TZOFFSETFROM:-0600
TZOFFSETTO:-0500
RDATE:20250309T020000
RDATE:20260308T020000
END:DAYLIGHT
END:VTIMEZONE
BEGIN:VEVENT
UID:916e7529-87cb-4c1f-a1d2-14232bbc8d3b
DTSTAMP:20260423T045142Z
DESCRIPTION:Come see us at Fab Lab Tulsa to make a SPOOKY\, GLOWING customi
 zed bag for your Halloween Treats!
DTSTART;TZID=America/Chicago:20241019T140000
DTEND;TZID=America/Chicago:20241019T170000
LOCATION:501 S Lewis Ave\, Tulsa\, OK 74104 US
SUMMARY:Make and Take: GLOW Trick-or-Treat Bags!
END:VEVENT
END:VCALENDAR
