BEGIN:VCALENDAR
VERSION:2.0
PRODID:-//fablabtulsa.org//NONSGML kigkonsult.se iCalcreator 2.30.10//
CALSCALE:GREGORIAN
METHOD:PUBLISH
UID:837a357e-99d5-4f0b-bac5-314a85863580
X-WR-CALDESC:We are doing a Make and Take event for TU Students!  Come and 
 get the Fab Lab experience of learning to design and create your own LED n
 ight light / desk lamp!\n\nThe event is set up like a class\, where everyo
 ne will design on a computer.  After designs are complete\, the group will
  go to our lasers to bring each person's design to life!\n\nThe LED lights
  will stay solid\, or change through colors.  All materials provided by Fa
 b Lab Tulsa.\n
X-WR-RELCALID:a77d8308b47af50e061e6aafc25b2748
X-WR-TIMEZONE:America/Chicago
BEGIN:VTIMEZONE
TZID:America/Chicago
BEGIN:STANDARD
TZNAME:CST
DTSTART:20231105T020000
TZOFFSETFROM:-0500
TZOFFSETTO:-0600
RDATE:20241103T020000
RDATE:20251102T020000
END:STANDARD
BEGIN:DAYLIGHT
TZNAME:CDT
DTSTART:20240310T020000
TZOFFSETFROM:-0600
TZOFFSETTO:-0500
RDATE:20250309T020000
RDATE:20260308T020000
END:DAYLIGHT
END:VTIMEZONE
BEGIN:VEVENT
UID:a6707943-ab93-46f0-9804-6369e9fd3e55
DTSTAMP:20260423T050732Z
DESCRIPTION:We are doing a Make and Take event for TU Students!  Come and g
 et the Fab Lab experience of learning to design and create your own LED ni
 ght light / desk lamp!\n\nThe event is set up like a class\, where everyon
 e will design on a computer.  After designs are complete\, the group will 
 go to our lasers to bring each person's design to life!\n\nThe LED lights 
 will stay solid\, or change through colors.  All materials provided by Fab
  Lab Tulsa.\n
DTSTART;TZID=America/Chicago:20241018T140000
DTEND;TZID=America/Chicago:20241018T170000
LOCATION:501 S Lewis Ave\, Tulsa\, OK 74104 US
SUMMARY:TU Student Event
END:VEVENT
END:VCALENDAR
