BEGIN:VCALENDAR
VERSION:2.0
PRODID:-//fablabtulsa.org//NONSGML kigkonsult.se iCalcreator 2.30.10//
CALSCALE:GREGORIAN
METHOD:PUBLISH
UID:1b7e22fb-19d7-4cb0-9595-2d1466e0a521
X-WR-CALDESC:Member Class
X-WR-RELCALID:3c9de725b65e02f363d56fca27db2f48
X-WR-TIMEZONE:America/Chicago
BEGIN:VTIMEZONE
TZID:America/Chicago
BEGIN:STANDARD
TZNAME:CST
DTSTART:20231105T020000
TZOFFSETFROM:-0500
TZOFFSETTO:-0600
RDATE:20241103T020000
RDATE:20251102T020000
END:STANDARD
BEGIN:DAYLIGHT
TZNAME:CDT
DTSTART:20240310T020000
TZOFFSETFROM:-0600
TZOFFSETTO:-0500
RDATE:20250309T020000
RDATE:20260308T020000
END:DAYLIGHT
END:VTIMEZONE
BEGIN:VEVENT
UID:f4b997d0-f91a-4aa2-8203-eb04fea3cb4a
DTSTAMP:20260423T050807Z
DESCRIPTION:Member Class
DTSTART;TZID=America/Chicago:20241012T100000
DTEND;TZID=America/Chicago:20241012T120000
LOCATION:501 S Lewis Avenue \, Tulsa\, OK 74105 US
SUMMARY:Class - Manual Woodworking Machinery
END:VEVENT
END:VCALENDAR
