BEGIN:VCALENDAR
VERSION:2.0
PRODID:-//fablabtulsa.org//NONSGML kigkonsult.se iCalcreator 2.30.10//
CALSCALE:GREGORIAN
METHOD:PUBLISH
UID:d1a5015f-c796-4f94-aa1d-3d12be2c87d5
X-WR-CALDESC:
X-WR-RELCALID:82105f9ae21e8b9f7b71bf05ef6ebd83
X-WR-TIMEZONE:America/Chicago
BEGIN:VTIMEZONE
TZID:America/Chicago
BEGIN:STANDARD
TZNAME:CST
DTSTART:20231105T020000
TZOFFSETFROM:-0500
TZOFFSETTO:-0600
RDATE:20241103T020000
RDATE:20251102T020000
END:STANDARD
BEGIN:DAYLIGHT
TZNAME:CDT
DTSTART:20240310T020000
TZOFFSETFROM:-0600
TZOFFSETTO:-0500
RDATE:20250309T020000
RDATE:20260308T020000
END:DAYLIGHT
END:VTIMEZONE
BEGIN:VEVENT
UID:6361112f-fc97-44d0-a0dc-5ff3264e4813
DTSTAMP:20260423T045114Z
DESCRIPTION:
DTSTART;TZID=America/Chicago:20241008T140000
DTEND;TZID=America/Chicago:20241008T170000
LOCATION:501 S Lewis Ave\, Tulsa\, OK 74104 US
SUMMARY:TUDA - TU Students in Lab
END:VEVENT
END:VCALENDAR
