BEGIN:VCALENDAR
VERSION:2.0
PRODID:-//fablabtulsa.org//NONSGML kigkonsult.se iCalcreator 2.30.10//
CALSCALE:GREGORIAN
METHOD:PUBLISH
UID:e0bb1851-8e89-4364-9e77-058ecbd662e2
X-WR-CALDESC:
X-WR-RELCALID:97e5e9e96188c8a92350c74c7fbdecfd
X-WR-TIMEZONE:America/Chicago
BEGIN:VTIMEZONE
TZID:America/Chicago
BEGIN:STANDARD
TZNAME:CST
DTSTART:20231105T020000
TZOFFSETFROM:-0500
TZOFFSETTO:-0600
RDATE:20241103T020000
RDATE:20251102T020000
END:STANDARD
BEGIN:DAYLIGHT
TZNAME:CDT
DTSTART:20240310T020000
TZOFFSETFROM:-0600
TZOFFSETTO:-0500
RDATE:20250309T020000
RDATE:20260308T020000
END:DAYLIGHT
END:VTIMEZONE
BEGIN:VEVENT
UID:02f8b720-355c-4dfe-8204-9fc3c50538fa
DTSTAMP:20260423T051023Z
DESCRIPTION:
DTSTART;TZID=America/Chicago:20241001T140000
DTEND;TZID=America/Chicago:20241001T170000
LOCATION:501 S Lewis Ave\, Tulsa\, OK 74104 US
SUMMARY:TUDA - TU Students in Lab
END:VEVENT
END:VCALENDAR
