BEGIN:VCALENDAR
VERSION:2.0
PRODID:-//fablabtulsa.org//NONSGML kigkonsult.se iCalcreator 2.30.10//
CALSCALE:GREGORIAN
METHOD:PUBLISH
UID:6456add6-252a-4853-95c6-5c0e35605387
X-WR-CALDESC:
X-WR-RELCALID:33d0ab2bd652cede79a9e6d34586dac2
X-WR-TIMEZONE:America/Chicago
BEGIN:VTIMEZONE
TZID:America/Chicago
BEGIN:STANDARD
TZNAME:CST
DTSTART:20231105T020000
TZOFFSETFROM:-0500
TZOFFSETTO:-0600
RDATE:20241103T020000
RDATE:20251102T020000
END:STANDARD
BEGIN:DAYLIGHT
TZNAME:CDT
DTSTART:20240310T020000
TZOFFSETFROM:-0600
TZOFFSETTO:-0500
RDATE:20250309T020000
RDATE:20260308T020000
END:DAYLIGHT
END:VTIMEZONE
BEGIN:VEVENT
UID:8c898c02-3bc9-4d3b-a9c3-531a0ba52489
DTSTAMP:20260423T064655Z
DESCRIPTION:
DTSTART;TZID=America/Chicago:20240924T140000
DTEND;TZID=America/Chicago:20240924T170000
LOCATION:501 S Lewis Ave\, Tulsa\, OK 74104 US
SUMMARY:TUDA - TU Students in Lab
END:VEVENT
END:VCALENDAR
