BEGIN:VCALENDAR
VERSION:2.0
PRODID:-//fablabtulsa.org//NONSGML kigkonsult.se iCalcreator 2.30.10//
CALSCALE:GREGORIAN
METHOD:PUBLISH
UID:e808f858-0a72-431c-9d31-d69dfa5b465c
X-WR-CALDESC:Come spend some time at Fab Lab Tulsa\, with family or friends
 \, and create your own LED night light!\n\nEvery ticket holder will receiv
 e the LED base and a piece of acrylic\, and we will be using Inkscape and 
 our lasers to design/engrave/cut our acrylic to achieve a cool lighting ef
 fect!\n
X-WR-RELCALID:d919036d3abd5259abe3de3194794108
X-WR-TIMEZONE:America/Chicago
BEGIN:VTIMEZONE
TZID:America/Chicago
BEGIN:STANDARD
TZNAME:CST
DTSTART:20231105T020000
TZOFFSETFROM:-0500
TZOFFSETTO:-0600
RDATE:20241103T020000
RDATE:20251102T020000
END:STANDARD
BEGIN:DAYLIGHT
TZNAME:CDT
DTSTART:20240310T020000
TZOFFSETFROM:-0600
TZOFFSETTO:-0500
RDATE:20250309T020000
RDATE:20260308T020000
END:DAYLIGHT
END:VTIMEZONE
BEGIN:VEVENT
UID:51c2fd7e-7eb4-4934-927e-475700b7bce2
DTSTAMP:20260423T064356Z
DESCRIPTION:Come spend some time at Fab Lab Tulsa\, with family or friends\
 , and create your own LED night light!\n\nEvery ticket holder will receive
  the LED base and a piece of acrylic\, and we will be using Inkscape and o
 ur lasers to design/engrave/cut our acrylic to achieve a cool lighting eff
 ect!\n
DTSTART;TZID=America/Chicago:20240921T140000
DTEND;TZID=America/Chicago:20240921T170000
LOCATION:501 S Lewis Ave\, Tulsa\, OK 74104 US
SUMMARY:All ages Make and Take - LED Night Lights
END:VEVENT
END:VCALENDAR
