BEGIN:VCALENDAR
VERSION:2.0
PRODID:-//fablabtulsa.org//NONSGML kigkonsult.se iCalcreator 2.30.10//
CALSCALE:GREGORIAN
METHOD:PUBLISH
UID:e2cb480e-80b5-4d29-9904-f987d39f76be
X-WR-CALDESC:
X-WR-RELCALID:11035c8e99a020d2fad5786a8e45ee59
X-WR-TIMEZONE:America/Chicago
BEGIN:VTIMEZONE
TZID:America/Chicago
BEGIN:STANDARD
TZNAME:CST
DTSTART:20231105T020000
TZOFFSETFROM:-0500
TZOFFSETTO:-0600
RDATE:20241103T020000
RDATE:20251102T020000
END:STANDARD
BEGIN:DAYLIGHT
TZNAME:CDT
DTSTART:20240310T020000
TZOFFSETFROM:-0600
TZOFFSETTO:-0500
RDATE:20250309T020000
END:DAYLIGHT
END:VTIMEZONE
BEGIN:VEVENT
UID:c9581244-f04b-48f3-bb7e-b29ec22cb9da
DTSTAMP:20260423T065018Z
DESCRIPTION:
DTSTART;TZID=America/Chicago:20240903T140000
DTEND;TZID=America/Chicago:20240903T170000
LOCATION:501 S Lewis Ave\, Tulsa\, OK 74104 US
SUMMARY:TUDA - TU Students in Lab
END:VEVENT
END:VCALENDAR
