BEGIN:VCALENDAR
VERSION:2.0
PRODID:-//fablabtulsa.org//NONSGML kigkonsult.se iCalcreator 2.30.10//
CALSCALE:GREGORIAN
METHOD:PUBLISH
UID:7c89b7fe-7352-4b5a-be97-ad675d9670ef
X-WR-CALDESC:
X-WR-RELCALID:f2761c9b844641a0565094b5aaf27ad6
X-WR-TIMEZONE:America/Chicago
BEGIN:VTIMEZONE
TZID:America/Chicago
BEGIN:STANDARD
TZNAME:CST
DTSTART:20231105T020000
TZOFFSETFROM:-0500
TZOFFSETTO:-0600
RDATE:20241103T020000
RDATE:20251102T020000
END:STANDARD
BEGIN:DAYLIGHT
TZNAME:CDT
DTSTART:20240310T020000
TZOFFSETFROM:-0600
TZOFFSETTO:-0500
RDATE:20250309T020000
END:DAYLIGHT
END:VTIMEZONE
BEGIN:VEVENT
UID:eb1ef408-0116-4fef-8a53-76eeabe73347
DTSTAMP:20260423T065018Z
DESCRIPTION:
DTSTART;TZID=America/Chicago:20240831T050000
DTEND;TZID=America/Chicago:20240902T050001
LOCATION:
SUMMARY:Lab closed for Labor Day
END:VEVENT
END:VCALENDAR
