BEGIN:VCALENDAR
VERSION:2.0
PRODID:-//fablabtulsa.org//NONSGML kigkonsult.se iCalcreator 2.30.10//
CALSCALE:GREGORIAN
METHOD:PUBLISH
UID:77a8e160-44ae-4771-95a5-5ada9af891b5
X-WR-CALDESC:
X-WR-RELCALID:5400fc94be08717a399e1e01573ca367
X-WR-TIMEZONE:America/Chicago
BEGIN:VTIMEZONE
TZID:America/Chicago
BEGIN:STANDARD
TZNAME:CST
DTSTART:20231105T020000
TZOFFSETFROM:-0500
TZOFFSETTO:-0600
RDATE:20241103T020000
RDATE:20251102T020000
END:STANDARD
BEGIN:DAYLIGHT
TZNAME:CDT
DTSTART:20240310T020000
TZOFFSETFROM:-0600
TZOFFSETTO:-0500
RDATE:20250309T020000
END:DAYLIGHT
END:VTIMEZONE
BEGIN:VEVENT
UID:0c47e4ff-31f7-4f6f-a82c-614072f12567
DTSTAMP:20260423T083445Z
DESCRIPTION:
DTSTART;TZID=America/Chicago:20240822T050000
DTEND;TZID=America/Chicago:20240824T050001
LOCATION:
SUMMARY:Lab Closed for MAKER FAIRE TULSA
END:VEVENT
END:VCALENDAR
