BEGIN:VCALENDAR
VERSION:2.0
PRODID:-//fablabtulsa.org//NONSGML kigkonsult.se iCalcreator 2.30.10//
CALSCALE:GREGORIAN
METHOD:PUBLISH
UID:373c221f-2f38-46ae-8006-75255a158c6d
X-WR-CALDESC:Member Class
X-WR-RELCALID:fab7d3dac3b0d788e600c7762311d6ea
X-WR-TIMEZONE:America/Chicago
BEGIN:VTIMEZONE
TZID:America/Chicago
BEGIN:STANDARD
TZNAME:CST
DTSTART:20231105T020000
TZOFFSETFROM:-0500
TZOFFSETTO:-0600
RDATE:20241103T020000
RDATE:20251102T020000
END:STANDARD
BEGIN:DAYLIGHT
TZNAME:CDT
DTSTART:20240310T020000
TZOFFSETFROM:-0600
TZOFFSETTO:-0500
RDATE:20250309T020000
END:DAYLIGHT
END:VTIMEZONE
BEGIN:VEVENT
UID:13012ad5-80ea-4a8a-8ce5-47dcd544254b
DTSTAMP:20260423T082116Z
DESCRIPTION:Member Class
DTSTART;TZID=America/Chicago:20240810T130000
DTEND;TZID=America/Chicago:20240810T160000
LOCATION:501 S Lewis Avenue \, Tulsa\, OK 74105 US
SUMMARY:Class - 2.5D Milling - Non-Metals
END:VEVENT
END:VCALENDAR
