BEGIN:VCALENDAR
VERSION:2.0
PRODID:-//fablabtulsa.org//NONSGML kigkonsult.se iCalcreator 2.30.10//
CALSCALE:GREGORIAN
METHOD:PUBLISH
UID:ffb3fd41-5255-48b3-83c4-5f6f7e9dba2b
X-WR-CALDESC:CAMP DESCRIPTION:  Want to be a maker and try all of the machi
 nes that make Fab Lab Tulsa so great?   “Become a Maker” is Fab Lab Tulsa'
 s summer camp where campers are introduced to the world of digital fabrica
 tion to create a wide range of projects using a variety of amazing machine
 s.  During this week-long session\, campers will experience 2D and 3D comp
 uter-aided design software and use 3D printing\, laser cutting and engravi
 ng\, vinyl cutting\, and 3-axis milling to print\, burn\, slice\, stick\, 
 cut\, press\, and assemble their own customize take home projects from scr
 atch.  Explore new ways to invent and create and transform ideas into real
  projects with digital tools.  Become a Maker at Fab Lab Tulsa!\n\nAGES:  
 10-15\n\nDATE & TIME:  Half-day camp sessions run from 7/22/24 through 7/2
 6/24 9:00am-12:00pm.  Early drop-off begins at 8:30am each day. \n\nCOST: 
  $300 per student.\n\nINSTRUCTIONS:  Click REGISTER NOW at the top right o
 f the screen to sign up.\n\nDEADLINE:  Registration closes on June 28\, 20
 24 \n
X-WR-RELCALID:b881f0748bf0be211bc2cabbcb169609
X-WR-TIMEZONE:America/Chicago
BEGIN:VTIMEZONE
TZID:America/Chicago
BEGIN:STANDARD
TZNAME:CST
DTSTART:20231105T020000
TZOFFSETFROM:-0500
TZOFFSETTO:-0600
RDATE:20241103T020000
RDATE:20251102T020000
END:STANDARD
BEGIN:DAYLIGHT
TZNAME:CDT
DTSTART:20240310T020000
TZOFFSETFROM:-0600
TZOFFSETTO:-0500
RDATE:20250309T020000
END:DAYLIGHT
END:VTIMEZONE
BEGIN:VEVENT
UID:81a63dca-625b-4ac3-b5c1-5c8e00d1c502
DTSTAMP:20260423T101225Z
DESCRIPTION:CAMP DESCRIPTION:  Want to be a maker and try all of the machin
 es that make Fab Lab Tulsa so great?   “Become a Maker” is Fab Lab Tulsa's
  summer camp where campers are introduced to the world of digital fabricat
 ion to create a wide range of projects using a variety of amazing machines
 .  During this week-long session\, campers will experience 2D and 3D compu
 ter-aided design software and use 3D printing\, laser cutting and engravin
 g\, vinyl cutting\, and 3-axis milling to print\, burn\, slice\, stick\, c
 ut\, press\, and assemble their own customize take home projects from scra
 tch.  Explore new ways to invent and create and transform ideas into real 
 projects with digital tools.  Become a Maker at Fab Lab Tulsa!\n\nAGES:  1
 0-15\n\nDATE & TIME:  Half-day camp sessions run from 7/22/24 through 7/26
 /24 9:00am-12:00pm.  Early drop-off begins at 8:30am each day. \n\nCOST:  
 $300 per student.\n\nINSTRUCTIONS:  Click REGISTER NOW at the top right of
  the screen to sign up.\n\nDEADLINE:  Registration closes on June 28\, 202
 4 \n
DTSTART;TZID=America/Chicago:20240722T090000
DTEND;TZID=America/Chicago:20240726T120000
LOCATION:501 S Lewis Avenue \, Tulsa\, OK 74104 US
SUMMARY:A Tour of Machines Summer Camp (July)
END:VEVENT
END:VCALENDAR
