BEGIN:VCALENDAR
VERSION:2.0
PRODID:-//fablabtulsa.org//NONSGML kigkonsult.se iCalcreator 2.30.10//
CALSCALE:GREGORIAN
METHOD:PUBLISH
UID:d87b4973-ee6f-4e5d-87f7-3973416a64b5
X-WR-CALDESC:Member Class
X-WR-RELCALID:8d1b736c98ca1e2cdc029d969dd8459d
X-WR-TIMEZONE:America/Chicago
BEGIN:VTIMEZONE
TZID:America/Chicago
BEGIN:STANDARD
TZNAME:CST
DTSTART:20231105T020000
TZOFFSETFROM:-0500
TZOFFSETTO:-0600
RDATE:20241103T020000
RDATE:20251102T020000
END:STANDARD
BEGIN:DAYLIGHT
TZNAME:CDT
DTSTART:20240310T020000
TZOFFSETFROM:-0600
TZOFFSETTO:-0500
RDATE:20250309T020000
END:DAYLIGHT
END:VTIMEZONE
BEGIN:VEVENT
UID:61677f25-ef58-4a96-a435-15d3e1e47598
DTSTAMP:20260423T102029Z
DESCRIPTION:Member Class
DTSTART;TZID=America/Chicago:20240720T100000
DTEND;TZID=America/Chicago:20240720T120000
LOCATION:501 S Lewis Avenue \, Tulsa\, OK 74105 US
SUMMARY:Class - Manual Woodworking Machinery
END:VEVENT
END:VCALENDAR
