BEGIN:VCALENDAR
VERSION:2.0
PRODID:-//fablabtulsa.org//NONSGML kigkonsult.se iCalcreator 2.30.10//
CALSCALE:GREGORIAN
METHOD:PUBLISH
UID:1e22a9db-79bc-4ae2-a980-530e253b6208
X-WR-CALDESC:Member Class
X-WR-RELCALID:5dfe30ff97785dfa561323a2d40ce1de
X-WR-TIMEZONE:America/Chicago
BEGIN:VTIMEZONE
TZID:America/Chicago
BEGIN:STANDARD
TZNAME:CST
DTSTART:20231105T020000
TZOFFSETFROM:-0500
TZOFFSETTO:-0600
RDATE:20241103T020000
RDATE:20251102T020000
END:STANDARD
BEGIN:DAYLIGHT
TZNAME:CDT
DTSTART:20240310T020000
TZOFFSETFROM:-0600
TZOFFSETTO:-0500
RDATE:20250309T020000
END:DAYLIGHT
END:VTIMEZONE
BEGIN:VEVENT
UID:e5ec059f-7ad8-489f-90f8-bc20e605a4a4
DTSTAMP:20260423T101511Z
DESCRIPTION:Member Class
DTSTART;TZID=America/Chicago:20240720T130000
DTEND;TZID=America/Chicago:20240720T160000
LOCATION:501 S Lewis Avenue \, Tulsa\, OK 74105 US
SUMMARY:Class - 2.5D Milling - Non-Metals
END:VEVENT
END:VCALENDAR
