BEGIN:VCALENDAR
VERSION:2.0
PRODID:-//fablabtulsa.org//NONSGML kigkonsult.se iCalcreator 2.30.10//
CALSCALE:GREGORIAN
METHOD:PUBLISH
UID:70423589-6131-40af-bb4a-997ad8791cc3
X-WR-CALDESC:CAMP DESCRIPTION:  This week-long summer session will explore 
 various basic techniques in EVA foam costume and mask making used by cospl
 ayers and theater prop artists.  Campers will use their inspiration to dev
 elop their own hero or villain and create wearable masks and accessories b
 ased on that character and to tell their backstory.  Campers will use 2D d
 esign software and laser cutters to take their sketches from concept to re
 ality  as well as a variety of techniques to build sculpt\, texturize\, an
 d paint their props to enhance their appearance.   Campers will take home 
 their creations with the goal to make one mask and two accessories.\n\nAGE
 S:  10-15\n\nDATE & TIME:  Half-day camp sessions run from 7/15/24 through
  7/19/24 9:00am-12:00pm.  Early drop-off begins at 8:30am each day. \n\nCO
 ST:  $300 per student.\n\nINSTRUCTIONS:  Click REGISTER NOW at the top rig
 ht of the screen to sign up.\n\nDEADLINE:  Registration closes on June 28\
 , 2024 \n
X-WR-RELCALID:ef988b1d973a73f5e8ec8d8bec3ea5bb
X-WR-TIMEZONE:America/Chicago
BEGIN:VTIMEZONE
TZID:America/Chicago
BEGIN:STANDARD
TZNAME:CST
DTSTART:20231105T020000
TZOFFSETFROM:-0500
TZOFFSETTO:-0600
RDATE:20241103T020000
RDATE:20251102T020000
END:STANDARD
BEGIN:DAYLIGHT
TZNAME:CDT
DTSTART:20240310T020000
TZOFFSETFROM:-0600
TZOFFSETTO:-0500
RDATE:20250309T020000
END:DAYLIGHT
END:VTIMEZONE
BEGIN:VEVENT
UID:a4f2b9ed-5171-422a-a37e-565cb91f7533
DTSTAMP:20260423T101916Z
DESCRIPTION:CAMP DESCRIPTION:  This week-long summer session will explore v
 arious basic techniques in EVA foam costume and mask making used by cospla
 yers and theater prop artists.  Campers will use their inspiration to deve
 lop their own hero or villain and create wearable masks and accessories ba
 sed on that character and to tell their backstory.  Campers will use 2D de
 sign software and laser cutters to take their sketches from concept to rea
 lity  as well as a variety of techniques to build sculpt\, texturize\, and
  paint their props to enhance their appearance.   Campers will take home t
 heir creations with the goal to make one mask and two accessories.\n\nAGES
 :  10-15\n\nDATE & TIME:  Half-day camp sessions run from 7/15/24 through 
 7/19/24 9:00am-12:00pm.  Early drop-off begins at 8:30am each day. \n\nCOS
 T:  $300 per student.\n\nINSTRUCTIONS:  Click REGISTER NOW at the top righ
 t of the screen to sign up.\n\nDEADLINE:  Registration closes on June 28\,
  2024 \n
DTSTART;TZID=America/Chicago:20240715T050000
DTEND;TZID=America/Chicago:20240719T050001
LOCATION:501 S Lewis Avenue \, Tulsa\, OK 74104 US
SUMMARY:Masks & Monsters Summer Camp
END:VEVENT
END:VCALENDAR
