BEGIN:VCALENDAR
VERSION:2.0
PRODID:-//fablabtulsa.org//NONSGML kigkonsult.se iCalcreator 2.30.10//
CALSCALE:GREGORIAN
METHOD:PUBLISH
UID:7daf1492-d1a7-4b6a-bfe8-61886579c496
X-WR-CALDESC:CAMP DESCRIPTION:  Want to be FABulous?   This week-long summe
 r fashion session will explore a variety of techniques of creating stateme
 nt fashion pieces using digital design techniques and materials.  Create j
 ewelry and bag tags utilizing our CO2 lasers\, create cyanotype wearables 
 with custom stencils.  Learn the basics of e-textiles and sew with conduct
 ive thread to light up accessories\, and learn how to engrave denim and ca
 nvas to personalize your own wardrobe.  After learning these techniques\, 
 campers will end the week by utilizing any of the learned techniques into 
 their own FABulous creation of clothing.\n\nAGES:  10-15\n\nDATE & TIME:  
 Half-day camp sessions run from 7/8/24 through 7/12/24 9:00am-12:00pm.  Ea
 rly drop-off begins at 8:30am each day. \n\nCOST:  $300 per student.\n\nIN
 STRUCTIONS:  Click REGISTER NOW at the top right of the screen to sign up.
 \n\nDEADLINE:  Registration closes on June 28\, 2024 \n
X-WR-RELCALID:ac052dcb6b9a6dde1bf0fdf35a77d12d
X-WR-TIMEZONE:America/Chicago
BEGIN:VTIMEZONE
TZID:America/Chicago
BEGIN:STANDARD
TZNAME:CST
DTSTART:20231105T020000
TZOFFSETFROM:-0500
TZOFFSETTO:-0600
RDATE:20241103T020000
RDATE:20251102T020000
END:STANDARD
BEGIN:DAYLIGHT
TZNAME:CDT
DTSTART:20240310T020000
TZOFFSETFROM:-0600
TZOFFSETTO:-0500
RDATE:20250309T020000
END:DAYLIGHT
END:VTIMEZONE
BEGIN:VEVENT
UID:f8bed1bd-355e-4213-b5db-1ca007d38d27
DTSTAMP:20260423T101538Z
DESCRIPTION:CAMP DESCRIPTION:  Want to be FABulous?   This week-long summer
  fashion session will explore a variety of techniques of creating statemen
 t fashion pieces using digital design techniques and materials.  Create je
 welry and bag tags utilizing our CO2 lasers\, create cyanotype wearables w
 ith custom stencils.  Learn the basics of e-textiles and sew with conducti
 ve thread to light up accessories\, and learn how to engrave denim and can
 vas to personalize your own wardrobe.  After learning these techniques\, c
 ampers will end the week by utilizing any of the learned techniques into t
 heir own FABulous creation of clothing.\n\nAGES:  10-15\n\nDATE & TIME:  H
 alf-day camp sessions run from 7/8/24 through 7/12/24 9:00am-12:00pm.  Ear
 ly drop-off begins at 8:30am each day. \n\nCOST:  $300 per student.\n\nINS
 TRUCTIONS:  Click REGISTER NOW at the top right of the screen to sign up.
 \n\nDEADLINE:  Registration closes on June 28\, 2024 \n
DTSTART;TZID=America/Chicago:20240708T090000
DTEND;TZID=America/Chicago:20240712T120000
LOCATION:501 S Lewis Avenue \, Tulsa\, OK 74104 US
SUMMARY:FAB Fashion Summer Camp
END:VEVENT
END:VCALENDAR
