BEGIN:VCALENDAR
VERSION:2.0
PRODID:-//fablabtulsa.org//NONSGML kigkonsult.se iCalcreator 2.30.10//
CALSCALE:GREGORIAN
METHOD:PUBLISH
UID:d811a339-bab1-4882-b65c-0aa871c24a8e
X-WR-CALDESC:
X-WR-RELCALID:bd38b3021cb49a1deb774dd27687567b
X-WR-TIMEZONE:America/Chicago
BEGIN:VTIMEZONE
TZID:America/Chicago
BEGIN:STANDARD
TZNAME:CST
DTSTART:20231105T020000
TZOFFSETFROM:-0500
TZOFFSETTO:-0600
RDATE:20241103T020000
RDATE:20251102T020000
END:STANDARD
BEGIN:DAYLIGHT
TZNAME:CDT
DTSTART:20240310T020000
TZOFFSETFROM:-0600
TZOFFSETTO:-0500
RDATE:20250309T020000
END:DAYLIGHT
END:VTIMEZONE
BEGIN:VEVENT
UID:f686d899-c891-42c2-89d3-90666b5002b1
DTSTAMP:20260425T101739Z
DESCRIPTION:
DTSTART;TZID=America/Chicago:20240525T000000
DTEND;TZID=America/Chicago:20240527T233000
LOCATION:
SUMMARY:Lab closed for Memorial Day
END:VEVENT
END:VCALENDAR
