BEGIN:VCALENDAR
VERSION:2.0
PRODID:-//fablabtulsa.org//NONSGML kigkonsult.se iCalcreator 2.30.10//
CALSCALE:GREGORIAN
METHOD:PUBLISH
UID:cbbd99db-cf17-48e6-a45a-61955372ffc6
X-WR-CALDESC:Come to Fab Lab with your family\, and learn to use some power
  tools\, while creating a wooden sculpture!\nYoung ages allowed with a gua
 rdian.  Learn to use basic power tools in a Wood Lab\, and get creative!
X-WR-RELCALID:ee00c869172190873a97d73521ce5dd8
X-WR-TIMEZONE:America/Chicago
BEGIN:VTIMEZONE
TZID:America/Chicago
BEGIN:STANDARD
TZNAME:CST
DTSTART:20231105T020000
TZOFFSETFROM:-0500
TZOFFSETTO:-0600
RDATE:20241103T020000
RDATE:20251102T020000
END:STANDARD
BEGIN:DAYLIGHT
TZNAME:CDT
DTSTART:20240310T020000
TZOFFSETFROM:-0600
TZOFFSETTO:-0500
RDATE:20250309T020000
END:DAYLIGHT
END:VTIMEZONE
BEGIN:VEVENT
UID:347c017f-3ceb-485a-9da0-3baeae0965c1
DTSTAMP:20260425T102608Z
DESCRIPTION:Come to Fab Lab with your family\, and learn to use some power 
 tools\, while creating a wooden sculpture!\nYoung ages allowed with a guar
 dian.  Learn to use basic power tools in a Wood Lab\, and get creative!
DTSTART;TZID=America/Chicago:20240518T140000
DTEND;TZID=America/Chicago:20240518T163000
LOCATION:501 S Lewis Ave\, Tulsa\, OK 74104 US
SUMMARY:Make and Take: Come learn to use power tools!  Create your own wood
  sculpture!
END:VEVENT
END:VCALENDAR
