BEGIN:VCALENDAR
VERSION:2.0
PRODID:-//fablabtulsa.org//NONSGML kigkonsult.se iCalcreator 2.30.10//
CALSCALE:GREGORIAN
METHOD:PUBLISH
UID:6165f1fc-3277-4607-9bef-2157b131ce7f
X-WR-CALDESC:
X-WR-RELCALID:dc55e88c74444bd376e27ca4991037b2
X-WR-TIMEZONE:America/Chicago
BEGIN:VTIMEZONE
TZID:America/Chicago
BEGIN:STANDARD
TZNAME:CST
DTSTART:20231105T020000
TZOFFSETFROM:-0500
TZOFFSETTO:-0600
RDATE:20241103T020000
RDATE:20251102T020000
END:STANDARD
BEGIN:DAYLIGHT
TZNAME:CDT
DTSTART:20240310T020000
TZOFFSETFROM:-0600
TZOFFSETTO:-0500
RDATE:20250309T020000
END:DAYLIGHT
END:VTIMEZONE
BEGIN:VEVENT
UID:6913a805-e25e-40c4-85c0-907b91b483fe
DTSTAMP:20260425T102521Z
DESCRIPTION:
DTSTART;TZID=America/Chicago:20240510T050000
DTEND;TZID=America/Chicago:20240512T050001
LOCATION:
SUMMARY:Lab closed for MAYFEST
END:VEVENT
END:VCALENDAR
