BEGIN:VCALENDAR
VERSION:2.0
PRODID:-//fablabtulsa.org//NONSGML kigkonsult.se iCalcreator 2.30.10//
CALSCALE:GREGORIAN
METHOD:PUBLISH
UID:5ee46966-e3bc-406d-80c0-b4b985151b8a
X-WR-CALDESC:Come on Saturday to design\, fabricate and put together your o
 wn jewelry. We have supplies available for making acrylic earrings\, brace
 let charms or necklace pendants. Learn how to design your piece and use ou
 r CO2 laser cutters to cut out your design! All ages are welcome.
X-WR-RELCALID:367f92c3f15e62f26409f5ffa7e4b09e
X-WR-TIMEZONE:America/Chicago
BEGIN:VTIMEZONE
TZID:America/Chicago
BEGIN:STANDARD
TZNAME:CST
DTSTART:20231105T020000
TZOFFSETFROM:-0500
TZOFFSETTO:-0600
RDATE:20241103T020000
END:STANDARD
BEGIN:DAYLIGHT
TZNAME:CDT
DTSTART:20240310T020000
TZOFFSETFROM:-0600
TZOFFSETTO:-0500
RDATE:20250309T020000
END:DAYLIGHT
END:VTIMEZONE
BEGIN:VEVENT
UID:5eaae1a4-7dd2-4148-be2a-535a647fa112
DTSTAMP:20260425T140722Z
DESCRIPTION:Come on Saturday to design\, fabricate and put together your ow
 n jewelry. We have supplies available for making acrylic earrings\, bracel
 et charms or necklace pendants. Learn how to design your piece and use our
  CO2 laser cutters to cut out your design! All ages are welcome.
DTSTART;TZID=America/Chicago:20240323T140000
DTEND;TZID=America/Chicago:20240323T160000
LOCATION:501 S Lewis Ave\, Tulsa\, AL 74104 US
SUMMARY:Make and Take March - Make Jewelry with Us!
END:VEVENT
END:VCALENDAR
