BEGIN:VCALENDAR
VERSION:2.0
PRODID:-//fablabtulsa.org//NONSGML kigkonsult.se iCalcreator 2.30.10//
CALSCALE:GREGORIAN
METHOD:PUBLISH
UID:2798f553-9221-433a-9a25-56518ea9dc3d
X-WR-CALDESC:Groups of students meeting at Fab Lab Tulsa to create a soluti
 on to a dilemma proposed on-the-spot the day of the event!\n\nSchool spons
 ored event\, no public access
X-WR-RELCALID:d2c3196088093fa16a93576b11673bb1
X-WR-TIMEZONE:America/Chicago
BEGIN:VTIMEZONE
TZID:America/Chicago
BEGIN:STANDARD
TZNAME:CST
DTSTART:20231105T020000
TZOFFSETFROM:-0500
TZOFFSETTO:-0600
RDATE:20241103T020000
END:STANDARD
BEGIN:DAYLIGHT
TZNAME:CDT
DTSTART:20230312T020000
TZOFFSETFROM:-0600
TZOFFSETTO:-0500
RDATE:20240310T020000
RDATE:20250309T020000
END:DAYLIGHT
END:VTIMEZONE
BEGIN:VEVENT
UID:eb5ce944-1405-48f9-954c-aa9b4ecfcd2d
DTSTAMP:20260425T141456Z
DESCRIPTION:Groups of students meeting at Fab Lab Tulsa to create a solutio
 n to a dilemma proposed on-the-spot the day of the event!\n\nSchool sponso
 red event\, no public access
DTSTART;TZID=America/Chicago:20240311T050000
DTEND;TZID=America/Chicago:20240311T050001
LOCATION:501 S Lewis Ave\, Tulsa\, OK 74104 US
SUMMARY:Design\, Do!
END:VEVENT
END:VCALENDAR
