BEGIN:VCALENDAR
VERSION:2.0
PRODID:-//fablabtulsa.org//NONSGML kigkonsult.se iCalcreator 2.30.10//
CALSCALE:GREGORIAN
METHOD:PUBLISH
UID:e049ba1e-1b5a-4adb-8f1b-92861967b7ba
X-WR-CALDESC:Member Class
X-WR-RELCALID:fc2400d63993e5691d12909e28abe764
X-WR-TIMEZONE:America/Chicago
BEGIN:VTIMEZONE
TZID:America/Chicago
BEGIN:STANDARD
TZNAME:CST
DTSTART:20231105T020000
TZOFFSETFROM:-0500
TZOFFSETTO:-0600
RDATE:20241103T020000
END:STANDARD
BEGIN:DAYLIGHT
TZNAME:CDT
DTSTART:20230312T020000
TZOFFSETFROM:-0600
TZOFFSETTO:-0500
RDATE:20240310T020000
RDATE:20250309T020000
END:DAYLIGHT
END:VTIMEZONE
BEGIN:VEVENT
UID:38727d2b-141a-4b71-a772-4626a8749818
DTSTAMP:20260425T134658Z
DESCRIPTION:Member Class
DTSTART;TZID=America/Chicago:20240309T100000
DTEND;TZID=America/Chicago:20240309T120000
LOCATION:501 S Lewis Avenue \, Tulsa\, OK 74105 US
SUMMARY:Class - Manual Woodworking Machinery
END:VEVENT
END:VCALENDAR
