BEGIN:VCALENDAR
VERSION:2.0
PRODID:-//fablabtulsa.org//NONSGML kigkonsult.se iCalcreator 2.30.10//
CALSCALE:GREGORIAN
METHOD:PUBLISH
UID:2195f28e-70a9-4909-bf32-4ec78f6c4e69
X-WR-CALDESC:Come spend a Saturday at Fab Lab Tulsa in February!\n\nWe will
  be doing a Make and Take event:  You design and etch your own drink Caraf
 e!  We will etch the glass carafe on our lasers\, then fill them with cand
 y kisses!\n\n\n
X-WR-RELCALID:54569b639579407c027e786f4a7ce176
X-WR-TIMEZONE:America/Chicago
BEGIN:VTIMEZONE
TZID:America/Chicago
BEGIN:STANDARD
TZNAME:CST
DTSTART:20231105T020000
TZOFFSETFROM:-0500
TZOFFSETTO:-0600
RDATE:20241103T020000
END:STANDARD
BEGIN:DAYLIGHT
TZNAME:CDT
DTSTART:20230312T020000
TZOFFSETFROM:-0600
TZOFFSETTO:-0500
RDATE:20240310T020000
RDATE:20250309T020000
END:DAYLIGHT
END:VTIMEZONE
BEGIN:VEVENT
UID:6af4c5e3-1ddb-451d-b932-24e2e2715d50
DTSTAMP:20260425T152252Z
DESCRIPTION:Come spend a Saturday at Fab Lab Tulsa in February!\n\nWe will 
 be doing a Make and Take event:  You design and etch your own drink Carafe
 !  We will etch the glass carafe on our lasers\, then fill them with candy
  kisses!\n\n\n
DTSTART;TZID=America/Chicago:20240217T140000
DTEND;TZID=America/Chicago:20240217T160000
LOCATION:501 S Lewis Ave\, Tulsa\, OK 74104 US
SUMMARY:Make and Take February - Valentines Candy Carafe (Laser)
END:VEVENT
END:VCALENDAR
