BEGIN:VCALENDAR
VERSION:2.0
PRODID:-//fablabtulsa.org//NONSGML kigkonsult.se iCalcreator 2.30.10//
CALSCALE:GREGORIAN
METHOD:PUBLISH
UID:c7261b14-584f-46d1-bbe1-cc240bd4c514
X-WR-CALDESC:Member class
X-WR-RELCALID:2060a8149adc20c316994177055ff662
X-WR-TIMEZONE:America/Chicago
BEGIN:VTIMEZONE
TZID:America/Chicago
BEGIN:STANDARD
TZNAME:CST
DTSTART:20231105T020000
TZOFFSETFROM:-0500
TZOFFSETTO:-0600
RDATE:20241103T020000
END:STANDARD
BEGIN:DAYLIGHT
TZNAME:CDT
DTSTART:20230312T020000
TZOFFSETFROM:-0600
TZOFFSETTO:-0500
RDATE:20240310T020000
RDATE:20250309T020000
END:DAYLIGHT
END:VTIMEZONE
BEGIN:VEVENT
UID:89ef3cde-7e1d-49e4-97c9-fc28d319b4d8
DTSTAMP:20260425T152844Z
DESCRIPTION:Member class
DTSTART;TZID=America/Chicago:20240210T130000
DTEND;TZID=America/Chicago:20240210T160000
LOCATION:501 S Lewis Avenue \, Tulsa\, OK 74105 US
SUMMARY:Class - 2.5D Milling - Non-Metals
END:VEVENT
END:VCALENDAR
