BEGIN:VCALENDAR
VERSION:2.0
PRODID:-//fablabtulsa.org//NONSGML kigkonsult.se iCalcreator 2.30.10//
CALSCALE:GREGORIAN
METHOD:PUBLISH
UID:51919102-a0dd-4110-899f-12c8808e875c
X-WR-CALDESC:Come spend a Saturday at Fab Lab Tulsa in January!\n\nDoes you
 r house have a 'bag of bags'?  Do you reuse your plastic shopping bags? Th
 is Make and Take event\, you will create a Grocery Bag Dispenser for your 
 shopping bags!  \n\nSkills this event will involve: utilizing the laser to
  cut out the pattern pieces\, sewing\, adding elastic to a sewn project\n
 \n
X-WR-RELCALID:765990a3e4531551318eff2dae8ce870
X-WR-TIMEZONE:America/Chicago
BEGIN:VTIMEZONE
TZID:America/Chicago
BEGIN:STANDARD
TZNAME:CST
DTSTART:20231105T020000
TZOFFSETFROM:-0500
TZOFFSETTO:-0600
RDATE:20241103T020000
END:STANDARD
BEGIN:DAYLIGHT
TZNAME:CDT
DTSTART:20230312T020000
TZOFFSETFROM:-0600
TZOFFSETTO:-0500
RDATE:20240310T020000
RDATE:20250309T020000
END:DAYLIGHT
END:VTIMEZONE
BEGIN:VEVENT
UID:95dc62f0-6c60-4e86-a490-f0cfd31fed0a
DTSTAMP:20260425T170936Z
DESCRIPTION:Come spend a Saturday at Fab Lab Tulsa in January!\n\nDoes your
  house have a 'bag of bags'?  Do you reuse your plastic shopping bags? Thi
 s Make and Take event\, you will create a Grocery Bag Dispenser for your s
 hopping bags!  \n\nSkills this event will involve: utilizing the laser to 
 cut out the pattern pieces\, sewing\, adding elastic to a sewn project\n\n
DTSTART;TZID=America/Chicago:20240120T140000
DTEND;TZID=America/Chicago:20240120T160000
LOCATION:501 S Lewis Ave\, Tulsa\, OK 74104 US
SUMMARY:Make and Take January - Grocery Bag Dispenser (Sewing)
END:VEVENT
END:VCALENDAR
