BEGIN:VCALENDAR
VERSION:2.0
PRODID:-//fablabtulsa.org//NONSGML kigkonsult.se iCalcreator 2.30.10//
CALSCALE:GREGORIAN
METHOD:PUBLISH
UID:f35b0e63-dec0-4236-ae9b-c3bbbc02be2d
X-WR-CALDESC:
X-WR-RELCALID:2397a5cdce316b73de4d1b84c00c62fa
X-WR-TIMEZONE:America/Chicago
BEGIN:VTIMEZONE
TZID:America/Chicago
BEGIN:STANDARD
TZNAME:CST
DTSTART:20231105T020000
TZOFFSETFROM:-0500
TZOFFSETTO:-0600
RDATE:20241103T020000
END:STANDARD
BEGIN:DAYLIGHT
TZNAME:CDT
DTSTART:20230312T020000
TZOFFSETFROM:-0600
TZOFFSETTO:-0500
RDATE:20240310T020000
RDATE:20250309T020000
END:DAYLIGHT
END:VTIMEZONE
BEGIN:VEVENT
UID:192971c6-6ce7-4134-939e-0c6b6e50c60c
DTSTAMP:20260425T183920Z
DESCRIPTION:
DTSTART;TZID=America/Chicago:20231223T000000
DTEND;TZID=America/Chicago:20231231T235900
LOCATION:
SUMMARY:LAB CLOSED: Winter Holidays
END:VEVENT
END:VCALENDAR
