BEGIN:VCALENDAR
VERSION:2.0
PRODID:-//fablabtulsa.org//NONSGML kigkonsult.se iCalcreator 2.30.10//
CALSCALE:GREGORIAN
METHOD:PUBLISH
UID:2d7068cb-4a7a-4e8a-9167-02f6a1b94808
X-WR-CALDESC:
X-WR-RELCALID:2caae1bdc20d3544c911b2968f8b9150
X-WR-TIMEZONE:America/Chicago
BEGIN:VTIMEZONE
TZID:America/Chicago
BEGIN:STANDARD
TZNAME:CST
DTSTART:20231105T020000
TZOFFSETFROM:-0500
TZOFFSETTO:-0600
RDATE:20241103T020000
END:STANDARD
BEGIN:DAYLIGHT
TZNAME:CDT
DTSTART:20230312T020000
TZOFFSETFROM:-0600
TZOFFSETTO:-0500
RDATE:20240310T020000
RDATE:20250309T020000
END:DAYLIGHT
END:VTIMEZONE
BEGIN:VEVENT
UID:d0667a22-d070-417f-aeb7-a17697f7f992
DTSTAMP:20260425T183420Z
DESCRIPTION:
DTSTART;TZID=America/Chicago:20231209T130000
DTEND;TZID=America/Chicago:20231209T140000
LOCATION:
SUMMARY:Public TOUR @ FLT
END:VEVENT
END:VCALENDAR
