BEGIN:VCALENDAR
VERSION:2.0
PRODID:-//fablabtulsa.org//NONSGML kigkonsult.se iCalcreator 2.30.10//
CALSCALE:GREGORIAN
METHOD:PUBLISH
UID:02c3e872-7c84-4906-a19f-a5e9b6c178c3
X-WR-CALDESC:Come spend a Saturday in December for holiday making at Fab La
 b Tulsa!  All ages are welcome. Bring the whole family to design and creat
 e an heirloom ornament that will be enjoyed for years to come. We have gor
 geous black slate ornaments that engrave beautifully. Personalize them wit
 h your very own message! In the process\, you'll learn how fun and easy it
  is to digitally design and laser engrave. \n\nThere will be three session
 s at 2pm on December 2\, 9 and 16. Click Register Now to select a date and
  time\, as well as the number of participants in your group.
X-WR-RELCALID:a717fbcc2bf93885b419bac6d59cac81
X-WR-TIMEZONE:America/Chicago
BEGIN:VTIMEZONE
TZID:America/Chicago
BEGIN:STANDARD
TZNAME:CST
DTSTART:20231105T020000
TZOFFSETFROM:-0500
TZOFFSETTO:-0600
RDATE:20241103T020000
END:STANDARD
BEGIN:DAYLIGHT
TZNAME:CDT
DTSTART:20230312T020000
TZOFFSETFROM:-0600
TZOFFSETTO:-0500
RDATE:20240310T020000
RDATE:20250309T020000
END:DAYLIGHT
END:VTIMEZONE
BEGIN:VEVENT
UID:5b4560b7-d851-4b99-a51b-b78ac5c97de5
DTSTAMP:20260425T185026Z
DESCRIPTION:Come spend a Saturday in December for holiday making at Fab Lab
  Tulsa!  All ages are welcome. Bring the whole family to design and create
  an heirloom ornament that will be enjoyed for years to come. We have gorg
 eous black slate ornaments that engrave beautifully. Personalize them with
  your very own message! In the process\, you'll learn how fun and easy it 
 is to digitally design and laser engrave. \n\nThere will be three sessions
  at 2pm on December 2\, 9 and 16. Click Register Now to select a date and 
 time\, as well as the number of participants in your group.
DTSTART;TZID=America/Chicago:20231202T140000
DTEND;TZID=America/Chicago:20231216T160000
LOCATION:501 S Lewis Ave\, Tulsa\, OK 74104 US
SUMMARY:Holiday Ornament Making
END:VEVENT
END:VCALENDAR
