BEGIN:VCALENDAR
VERSION:2.0
PRODID:-//fablabtulsa.org//NONSGML kigkonsult.se iCalcreator 2.30.10//
CALSCALE:GREGORIAN
METHOD:PUBLISH
UID:dcb50723-9ac0-4f7b-8775-fe83036e6886
X-WR-CALDESC:
X-WR-RELCALID:488822c27b91613d8cb55448cff6fa73
X-WR-TIMEZONE:America/Chicago
BEGIN:VTIMEZONE
TZID:America/Chicago
BEGIN:STANDARD
TZNAME:CST
DTSTART:20231105T020000
TZOFFSETFROM:-0500
TZOFFSETTO:-0600
RDATE:20241103T020000
END:STANDARD
BEGIN:DAYLIGHT
TZNAME:CDT
DTSTART:20230312T020000
TZOFFSETFROM:-0600
TZOFFSETTO:-0500
RDATE:20240310T020000
RDATE:20250309T020000
END:DAYLIGHT
END:VTIMEZONE
BEGIN:VEVENT
UID:655b7628-d7c5-4632-8030-cd910600f779
DTSTAMP:20260425T202019Z
DESCRIPTION:
DTSTART;TZID=America/Chicago:20231123T000000
DTEND;TZID=America/Chicago:20231125T235900
LOCATION:
SUMMARY:LAB CLOSED: Thanksgiving Holiday
END:VEVENT
END:VCALENDAR
