BEGIN:VCALENDAR
VERSION:2.0
PRODID:-//fablabtulsa.org//NONSGML kigkonsult.se iCalcreator 2.30.10//
CALSCALE:GREGORIAN
METHOD:PUBLISH
UID:3682e873-7035-4ad1-8234-2f9e51dc4abe
X-WR-CALDESC:
X-WR-RELCALID:f1f22b92d2714b6f0af0ab7d6985cc83
X-WR-TIMEZONE:America/Chicago
BEGIN:VTIMEZONE
TZID:America/Chicago
BEGIN:STANDARD
TZNAME:CST
DTSTART:20231105T020000
TZOFFSETFROM:-0500
TZOFFSETTO:-0600
RDATE:20241103T020000
END:STANDARD
BEGIN:DAYLIGHT
TZNAME:CDT
DTSTART:20230312T020000
TZOFFSETFROM:-0600
TZOFFSETTO:-0500
RDATE:20240310T020000
RDATE:20250309T020000
END:DAYLIGHT
END:VTIMEZONE
BEGIN:VEVENT
UID:a06fc4bf-73c0-4297-96cd-a00784147906
DTSTAMP:20260425T204323Z
DESCRIPTION:
DTSTART;TZID=America/Chicago:20231122T150000
DTEND;TZID=America/Chicago:20231122T170000
LOCATION:
SUMMARY:CLOSING EARLY
END:VEVENT
END:VCALENDAR
