BEGIN:VCALENDAR
VERSION:2.0
PRODID:-//fablabtulsa.org//NONSGML kigkonsult.se iCalcreator 2.30.10//
CALSCALE:GREGORIAN
METHOD:PUBLISH
UID:9a3361ee-c6e7-49d9-b505-e4db98e97316
X-WR-CALDESC:
X-WR-RELCALID:b4f9f5a1c6134b0f7feb775105d2b2b0
X-WR-TIMEZONE:America/Chicago
BEGIN:VTIMEZONE
TZID:America/Chicago
BEGIN:STANDARD
TZNAME:CST
DTSTART:20231105T020000
TZOFFSETFROM:-0500
TZOFFSETTO:-0600
RDATE:20241103T020000
END:STANDARD
BEGIN:DAYLIGHT
TZNAME:CDT
DTSTART:20230312T020000
TZOFFSETFROM:-0600
TZOFFSETTO:-0500
RDATE:20240310T020000
RDATE:20250309T020000
END:DAYLIGHT
END:VTIMEZONE
BEGIN:VEVENT
UID:9f207943-874c-446e-b90c-f3e1e2e714dc
DTSTAMP:20260425T201826Z
DESCRIPTION:
DTSTART;TZID=America/Chicago:20231118T130000
DTEND;TZID=America/Chicago:20231118T140000
LOCATION:
SUMMARY:Public TOUR @ FLT
END:VEVENT
END:VCALENDAR
