BEGIN:VCALENDAR
VERSION:2.0
PRODID:-//fablabtulsa.org//NONSGML kigkonsult.se iCalcreator 2.30.10//
CALSCALE:GREGORIAN
METHOD:PUBLISH
UID:82499205-f4c4-478c-bd7f-6e8744c78008
X-WR-CALDESC:
X-WR-RELCALID:8237837a3fdd97c9e2866deab5e6034d
X-WR-TIMEZONE:America/Chicago
BEGIN:VTIMEZONE
TZID:America/Chicago
BEGIN:STANDARD
TZNAME:CST
DTSTART:20221106T020000
TZOFFSETFROM:-0500
TZOFFSETTO:-0600
RDATE:20231105T020000
RDATE:20241103T020000
END:STANDARD
BEGIN:DAYLIGHT
TZNAME:CDT
DTSTART:20230312T020000
TZOFFSETFROM:-0600
TZOFFSETTO:-0500
RDATE:20240310T020000
RDATE:20250309T020000
END:DAYLIGHT
END:VTIMEZONE
BEGIN:VEVENT
UID:f9c0e446-ed06-4c97-9080-2265c0e1a7c4
DTSTAMP:20260425T204041Z
DESCRIPTION:
DTSTART;TZID=America/Chicago:20231104T130000
DTEND;TZID=America/Chicago:20231104T140000
LOCATION:
SUMMARY:Public TOUR @ FLT
END:VEVENT
END:VCALENDAR
