BEGIN:VCALENDAR
VERSION:2.0
PRODID:-//fablabtulsa.org//NONSGML kigkonsult.se iCalcreator 2.30.10//
CALSCALE:GREGORIAN
METHOD:PUBLISH
UID:dc5dfc3c-595e-40ad-9007-a145846ee9ad
X-WR-CALDESC:
X-WR-RELCALID:f3d14d1e4101e314585736bb6e918fd2
X-WR-TIMEZONE:America/Chicago
BEGIN:VTIMEZONE
TZID:America/Chicago
BEGIN:STANDARD
TZNAME:CST
DTSTART:20221106T020000
TZOFFSETFROM:-0500
TZOFFSETTO:-0600
RDATE:20231105T020000
RDATE:20241103T020000
END:STANDARD
BEGIN:DAYLIGHT
TZNAME:CDT
DTSTART:20230312T020000
TZOFFSETFROM:-0600
TZOFFSETTO:-0500
RDATE:20240310T020000
RDATE:20250309T020000
END:DAYLIGHT
END:VTIMEZONE
BEGIN:VEVENT
UID:a4b3bf96-d6f8-47e1-98a9-56f5a4b63a77
DTSTAMP:20260425T222910Z
DESCRIPTION:
DTSTART;TZID=America/Chicago:20231028T130000
DTEND;TZID=America/Chicago:20231028T140000
LOCATION:
SUMMARY:Public TOUR @ FLT
END:VEVENT
END:VCALENDAR
