BEGIN:VCALENDAR
VERSION:2.0
PRODID:-//fablabtulsa.org//NONSGML kigkonsult.se iCalcreator 2.30.10//
CALSCALE:GREGORIAN
METHOD:PUBLISH
UID:121322a7-7c57-4821-945f-c7c5880d37be
X-WR-CALDESC:Come spend a Saturday in October for some scary making at Fab 
 Lab Tulsa!  All ages are welcome. Bring the whole family to design and cre
 ate a glow in the dark Trick-or-Treat bag!  We have black canvas bags and 
 glow-in-the-dark vinyl\, which you will design and personalize with your v
 ery own message! In the process\, you'll learn how fun and easy it is to d
 igitally design and use a vinyl cutting machine. \n\n
X-WR-RELCALID:de5ae6ea7b6e8241c605fe08a2e0fa37
X-WR-TIMEZONE:America/Chicago
BEGIN:VTIMEZONE
TZID:America/Chicago
BEGIN:STANDARD
TZNAME:CST
DTSTART:20221106T020000
TZOFFSETFROM:-0500
TZOFFSETTO:-0600
RDATE:20231105T020000
RDATE:20241103T020000
END:STANDARD
BEGIN:DAYLIGHT
TZNAME:CDT
DTSTART:20230312T020000
TZOFFSETFROM:-0600
TZOFFSETTO:-0500
RDATE:20240310T020000
RDATE:20250309T020000
END:DAYLIGHT
END:VTIMEZONE
BEGIN:VEVENT
UID:fe86dadd-bf00-42ca-bb17-cf50c0029de1
DTSTAMP:20260425T223206Z
DESCRIPTION:Come spend a Saturday in October for some scary making at Fab L
 ab Tulsa!  All ages are welcome. Bring the whole family to design and crea
 te a glow in the dark Trick-or-Treat bag!  We have black canvas bags and g
 low-in-the-dark vinyl\, which you will design and personalize with your ve
 ry own message! In the process\, you'll learn how fun and easy it is to di
 gitally design and use a vinyl cutting machine. \n\n
DTSTART;TZID=America/Chicago:20231021T140000
DTEND;TZID=America/Chicago:20231021T160000
LOCATION:501 S Lewis Ave\, Tulsa\, OK 74104 US
SUMMARY:Glow Trick or Treat Bags
END:VEVENT
END:VCALENDAR
