BEGIN:VCALENDAR
VERSION:2.0
PRODID:-//fablabtulsa.org//NONSGML kigkonsult.se iCalcreator 2.30.10//
CALSCALE:GREGORIAN
METHOD:PUBLISH
UID:36333244-44ed-4234-8aa6-58cfd2815e61
X-WR-CALDESC:Come spend a Saturday in September for some back-to-school mak
 ing at Fab Lab Tulsa!  All ages are welcome. Bring the whole family to des
 ign and create a custom Lego Wall hanging\, display\, or scene base. We ha
 ve multi-colored lego plates that you can Personalize by making it your ow
 n shape! In the process\, you'll learn how fun and easy it is to digitally
  design and use a laser cutter.\n\n
X-WR-RELCALID:d4fe5f0f3a3023c83ae100b9f517812b
X-WR-TIMEZONE:America/Chicago
BEGIN:VTIMEZONE
TZID:America/Chicago
BEGIN:STANDARD
TZNAME:CST
DTSTART:20221106T020000
TZOFFSETFROM:-0500
TZOFFSETTO:-0600
RDATE:20231105T020000
RDATE:20241103T020000
END:STANDARD
BEGIN:DAYLIGHT
TZNAME:CDT
DTSTART:20230312T020000
TZOFFSETFROM:-0600
TZOFFSETTO:-0500
RDATE:20240310T020000
RDATE:20250309T020000
END:DAYLIGHT
END:VTIMEZONE
BEGIN:VEVENT
UID:39b60df0-56f6-4c0a-b8c8-42c732ba06f7
DTSTAMP:20260426T000751Z
DESCRIPTION:Come spend a Saturday in September for some back-to-school maki
 ng at Fab Lab Tulsa!  All ages are welcome. Bring the whole family to desi
 gn and create a custom Lego Wall hanging\, display\, or scene base. We hav
 e multi-colored lego plates that you can Personalize by making it your own
  shape! In the process\, you'll learn how fun and easy it is to digitally 
 design and use a laser cutter.\n\n
DTSTART;TZID=America/Chicago:20230916T140000
DTEND;TZID=America/Chicago:20230916T160000
LOCATION:501 S Lewis Ave\, Tulsa\, OK 74104 US
SUMMARY:Make and Take: Custom Lego Displays
END:VEVENT
END:VCALENDAR
