BEGIN:VCALENDAR
VERSION:2.0
PRODID:-//fablabtulsa.org//NONSGML kigkonsult.se iCalcreator 2.30.10//
CALSCALE:GREGORIAN
METHOD:PUBLISH
UID:29da1f65-c805-4fd6-a1cd-538640a3025d
X-WR-CALDESC:
X-WR-RELCALID:f57fa0fbff9ac6f5cc8e5b04c1198a37
X-WR-TIMEZONE:America/Chicago
BEGIN:VTIMEZONE
TZID:America/Chicago
BEGIN:STANDARD
TZNAME:CST
DTSTART:20221106T020000
TZOFFSETFROM:-0500
TZOFFSETTO:-0600
RDATE:20231105T020000
RDATE:20241103T020000
END:STANDARD
BEGIN:DAYLIGHT
TZNAME:CDT
DTSTART:20230312T020000
TZOFFSETFROM:-0600
TZOFFSETTO:-0500
RDATE:20240310T020000
END:DAYLIGHT
END:VTIMEZONE
BEGIN:VEVENT
UID:8c1bbd8b-5338-4cb2-9775-448d9adf4b15
DTSTAMP:20260426T001040Z
DESCRIPTION:
DTSTART;TZID=America/Chicago:20230902T000000
DTEND;TZID=America/Chicago:20230904T235900
LOCATION:
SUMMARY:LAB CLOSED: Labor Day Holiday
END:VEVENT
END:VCALENDAR
