BEGIN:VCALENDAR
VERSION:2.0
PRODID:-//fablabtulsa.org//NONSGML kigkonsult.se iCalcreator 2.30.10//
CALSCALE:GREGORIAN
METHOD:PUBLISH
UID:dc6ea479-46af-4d20-8257-6648c976a6b2
X-WR-CALDESC:
X-WR-RELCALID:3bfe806cccb6d3b122f03c7614c94e2f
X-WR-TIMEZONE:America/Chicago
BEGIN:VTIMEZONE
TZID:America/Chicago
BEGIN:STANDARD
TZNAME:CST
DTSTART:20221106T020000
TZOFFSETFROM:-0500
TZOFFSETTO:-0600
RDATE:20231105T020000
RDATE:20241103T020000
END:STANDARD
BEGIN:DAYLIGHT
TZNAME:CDT
DTSTART:20230312T020000
TZOFFSETFROM:-0600
TZOFFSETTO:-0500
RDATE:20240310T020000
END:DAYLIGHT
END:VTIMEZONE
BEGIN:VEVENT
UID:0f529bf1-58bf-4781-9206-4c2bd31a4ef8
DTSTAMP:20260426T000927Z
DESCRIPTION:
DTSTART;TZID=America/Chicago:20230901T150000
DTEND;TZID=America/Chicago:20230901T170000
LOCATION:
SUMMARY:CLOSING EARLY
END:VEVENT
END:VCALENDAR
