BEGIN:VCALENDAR
VERSION:2.0
PRODID:-//fablabtulsa.org//NONSGML kigkonsult.se iCalcreator 2.30.10//
CALSCALE:GREGORIAN
METHOD:PUBLISH
UID:e34b7a66-e544-449f-9bf0-a5dcc23b3b0d
X-WR-CALDESC:
X-WR-RELCALID:8783b484f0915ae25de31046b942823e
X-WR-TIMEZONE:America/Chicago
BEGIN:VTIMEZONE
TZID:America/Chicago
BEGIN:STANDARD
TZNAME:CST
DTSTART:20221106T020000
TZOFFSETFROM:-0500
TZOFFSETTO:-0600
RDATE:20231105T020000
RDATE:20241103T020000
END:STANDARD
BEGIN:DAYLIGHT
TZNAME:CDT
DTSTART:20230312T020000
TZOFFSETFROM:-0600
TZOFFSETTO:-0500
RDATE:20240310T020000
END:DAYLIGHT
END:VTIMEZONE
BEGIN:VEVENT
UID:0608737e-e5fb-4cb7-ae6c-82fc6e48642e
DTSTAMP:20260426T015814Z
DESCRIPTION:
DTSTART;TZID=America/Chicago:20230824T000000
DTEND;TZID=America/Chicago:20230826T235900
LOCATION:
SUMMARY:LAB CLOSED
END:VEVENT
END:VCALENDAR
