BEGIN:VCALENDAR
VERSION:2.0
PRODID:-//fablabtulsa.org//NONSGML kigkonsult.se iCalcreator 2.30.10//
CALSCALE:GREGORIAN
METHOD:PUBLISH
UID:a98e1e6a-7904-4c47-b500-e4d643481af8
X-WR-CALDESC:
X-WR-RELCALID:7a786bd2d4f44dc72c8302c4438fb50b
X-WR-TIMEZONE:America/Chicago
BEGIN:VTIMEZONE
TZID:America/Chicago
BEGIN:STANDARD
TZNAME:CST
DTSTART:20221106T020000
TZOFFSETFROM:-0500
TZOFFSETTO:-0600
RDATE:20231105T020000
RDATE:20241103T020000
END:STANDARD
BEGIN:DAYLIGHT
TZNAME:CDT
DTSTART:20230312T020000
TZOFFSETFROM:-0600
TZOFFSETTO:-0500
RDATE:20240310T020000
END:DAYLIGHT
END:VTIMEZONE
BEGIN:VEVENT
UID:df7b4323-197b-4340-b544-74c5481c90ec
DTSTAMP:20260426T015317Z
DESCRIPTION:
DTSTART;TZID=America/Chicago:20230805T130000
DTEND;TZID=America/Chicago:20230805T140000
LOCATION:
SUMMARY:Public TOUR @ FLT
END:VEVENT
END:VCALENDAR
